BEGIN:VCALENDAR
VERSION:2.0
PRODID:-//BÜRGERSTIFTUNG BARNIM UCKERMARK - ECPv6.15.20//NONSGML v1.0//EN
CALSCALE:GREGORIAN
METHOD:PUBLISH
X-ORIGINAL-URL:https://buergerstiftung-barnim-uckermark.de
X-WR-CALDESC:Veranstaltungen für BÜRGERSTIFTUNG BARNIM UCKERMARK
REFRESH-INTERVAL;VALUE=DURATION:PT1H
X-Robots-Tag:noindex
X-PUBLISHED-TTL:PT1H
BEGIN:VTIMEZONE
TZID:Europe/Berlin
BEGIN:DAYLIGHT
TZOFFSETFROM:+0100
TZOFFSETTO:+0200
TZNAME:CEST
DTSTART:20180325T010000
END:DAYLIGHT
BEGIN:STANDARD
TZOFFSETFROM:+0200
TZOFFSETTO:+0100
TZNAME:CET
DTSTART:20181028T010000
END:STANDARD
BEGIN:DAYLIGHT
TZOFFSETFROM:+0100
TZOFFSETTO:+0200
TZNAME:CEST
DTSTART:20190331T010000
END:DAYLIGHT
BEGIN:STANDARD
TZOFFSETFROM:+0200
TZOFFSETTO:+0100
TZNAME:CET
DTSTART:20191027T010000
END:STANDARD
BEGIN:DAYLIGHT
TZOFFSETFROM:+0100
TZOFFSETTO:+0200
TZNAME:CEST
DTSTART:20200329T010000
END:DAYLIGHT
BEGIN:STANDARD
TZOFFSETFROM:+0200
TZOFFSETTO:+0100
TZNAME:CET
DTSTART:20201025T010000
END:STANDARD
END:VTIMEZONE
BEGIN:VEVENT
DTSTART;TZID=Europe/Berlin:20190926T160000
DTEND;TZID=Europe/Berlin:20190926T170000
DTSTAMP:20260424T232626
CREATED:20190923T120432Z
LAST-MODIFIED:20210107T003701Z
UID:10000238-1569513600-1569517200@buergerstiftung-barnim-uckermark.de
SUMMARY:Lesezauber auf der Sternwarte
DESCRIPTION:Lesezauber auf dem Sternwarte-Turm in der Steinstraße (mit Regenvariante)\nVorlese-Aktion mit spannenden Geschichten über Himmel\, Sterne\, Weltraum für Alle\n26.9.19\, 16:00 – 17:00 Uhr \n#Lesezauber #Vorleseinitiative #Vorlesen #Prenzlau \nFreiwillige lesen Kindern jeden Donnerstag Nachmittag auf Spielplätzen\, im Park\, am See\, an besonderen Orten spannende Geschichten vor\, teilweise mehrsprachig. Denn die Welt der Bücher ist genauso vielfältig wie die Bewohner*innen der Stadt. Dafür bilden wir\, sooft es gelingt\, mehrsprachige Vorlese-Teams. Haltet nach dem dem blauweißen Lesezauber-Sonnenschirm mit dem Kobold Ausschau! Unsere Vorleser*innen sind mit einem LESEZAUBER-Rucksack voller Bücher\, Decke und Sonnenschirm unterwegs und warten auf Euch. \nDer mehrsprachige Lesezauber ist ein Projekt der Bürgerstiftung Barnim Uckermark in Kooperation mit der Stadtbibliothek Prenzlau\, gefördert vom Bündnis für Brandenburg.
URL:https://buergerstiftung-barnim-uckermark.de/aktuelle/lesezauber-auf-der-sternwarte/
LOCATION:Sternwarte Prenzlau\, Steinstraße\, Prenzlau\, 17291
CATEGORIES:Lesezauber
GEO:53.3119947;13.8606312
X-APPLE-STRUCTURED-LOCATION;VALUE=URI;X-ADDRESS=Sternwarte Prenzlau Steinstraße Prenzlau 17291;X-APPLE-RADIUS=500;X-TITLE=Steinstraße:geo:13.8606312,53.3119947
END:VEVENT
END:VCALENDAR