BEGIN:VCALENDAR
VERSION:2.0
PRODID:-//BÜRGERSTIFTUNG BARNIM UCKERMARK - ECPv6.15.20//NONSGML v1.0//EN
CALSCALE:GREGORIAN
METHOD:PUBLISH
X-WR-CALNAME:BÜRGERSTIFTUNG BARNIM UCKERMARK
X-ORIGINAL-URL:https://buergerstiftung-barnim-uckermark.de
X-WR-CALDESC:Veranstaltungen für BÜRGERSTIFTUNG BARNIM UCKERMARK
REFRESH-INTERVAL;VALUE=DURATION:PT1H
X-Robots-Tag:noindex
X-PUBLISHED-TTL:PT1H
BEGIN:VTIMEZONE
TZID:Europe/Berlin
BEGIN:DAYLIGHT
TZOFFSETFROM:+0100
TZOFFSETTO:+0200
TZNAME:CEST
DTSTART:20170326T010000
END:DAYLIGHT
BEGIN:STANDARD
TZOFFSETFROM:+0200
TZOFFSETTO:+0100
TZNAME:CET
DTSTART:20171029T010000
END:STANDARD
BEGIN:DAYLIGHT
TZOFFSETFROM:+0100
TZOFFSETTO:+0200
TZNAME:CEST
DTSTART:20180325T010000
END:DAYLIGHT
BEGIN:STANDARD
TZOFFSETFROM:+0200
TZOFFSETTO:+0100
TZNAME:CET
DTSTART:20181028T010000
END:STANDARD
BEGIN:DAYLIGHT
TZOFFSETFROM:+0100
TZOFFSETTO:+0200
TZNAME:CEST
DTSTART:20190331T010000
END:DAYLIGHT
BEGIN:STANDARD
TZOFFSETFROM:+0200
TZOFFSETTO:+0100
TZNAME:CET
DTSTART:20191027T010000
END:STANDARD
BEGIN:DAYLIGHT
TZOFFSETFROM:+0100
TZOFFSETTO:+0200
TZNAME:CEST
DTSTART:20200329T010000
END:DAYLIGHT
BEGIN:STANDARD
TZOFFSETFROM:+0200
TZOFFSETTO:+0100
TZNAME:CET
DTSTART:20201025T010000
END:STANDARD
BEGIN:DAYLIGHT
TZOFFSETFROM:+0100
TZOFFSETTO:+0200
TZNAME:CEST
DTSTART:20210328T010000
END:DAYLIGHT
BEGIN:STANDARD
TZOFFSETFROM:+0200
TZOFFSETTO:+0100
TZNAME:CET
DTSTART:20211031T010000
END:STANDARD
BEGIN:DAYLIGHT
TZOFFSETFROM:+0100
TZOFFSETTO:+0200
TZNAME:CEST
DTSTART:20220327T010000
END:DAYLIGHT
BEGIN:STANDARD
TZOFFSETFROM:+0200
TZOFFSETTO:+0100
TZNAME:CET
DTSTART:20221030T010000
END:STANDARD
BEGIN:DAYLIGHT
TZOFFSETFROM:+0100
TZOFFSETTO:+0200
TZNAME:CEST
DTSTART:20230326T010000
END:DAYLIGHT
BEGIN:STANDARD
TZOFFSETFROM:+0200
TZOFFSETTO:+0100
TZNAME:CET
DTSTART:20231029T010000
END:STANDARD
BEGIN:DAYLIGHT
TZOFFSETFROM:+0100
TZOFFSETTO:+0200
TZNAME:CEST
DTSTART:20240331T010000
END:DAYLIGHT
BEGIN:STANDARD
TZOFFSETFROM:+0200
TZOFFSETTO:+0100
TZNAME:CET
DTSTART:20241027T010000
END:STANDARD
BEGIN:DAYLIGHT
TZOFFSETFROM:+0100
TZOFFSETTO:+0200
TZNAME:CEST
DTSTART:20250330T010000
END:DAYLIGHT
BEGIN:STANDARD
TZOFFSETFROM:+0200
TZOFFSETTO:+0100
TZNAME:CET
DTSTART:20251026T010000
END:STANDARD
BEGIN:DAYLIGHT
TZOFFSETFROM:+0100
TZOFFSETTO:+0200
TZNAME:CEST
DTSTART:20260329T010000
END:DAYLIGHT
BEGIN:STANDARD
TZOFFSETFROM:+0200
TZOFFSETTO:+0100
TZNAME:CET
DTSTART:20261025T010000
END:STANDARD
BEGIN:DAYLIGHT
TZOFFSETFROM:+0100
TZOFFSETTO:+0200
TZNAME:CEST
DTSTART:20270328T010000
END:DAYLIGHT
BEGIN:STANDARD
TZOFFSETFROM:+0200
TZOFFSETTO:+0100
TZNAME:CET
DTSTART:20271031T010000
END:STANDARD
END:VTIMEZONE
BEGIN:VEVENT
DTSTART;TZID=Europe/Berlin:20260422T100000
DTEND;TZID=Europe/Berlin:20260422T100000
DTSTAMP:20260425T160617
CREATED:20240130T090835Z
LAST-MODIFIED:20241122T170341Z
UID:10001188-1776852000-1776852000@buergerstiftung-barnim-uckermark.de
SUMMARY:Frauenfrühstück Prenzlau
DESCRIPTION:Gemeinsam * Austausch * Vernetzung * Unterstützung\n\nWillkommen beim Frauenfrühstück mit Sekine.\n\nJeden Mittwoch in der Zeit von 10:00 bis 12:00 Uhr\n\nin den Räumlichkeiten der Begegnungsstätte „Diester“\, Diesterweg Straße 6\, 17291 Prenzlau.\n\nDas Frauenfrühstück findet im Rahmen unseres Projektes Women Action Space in Kooperation mit der Stadt Prenzlau statt.\n\nWomen Action Space gefördert vom Ministerium für Soziales\, Gesundheit\, Integration und Verbraucherschutz des Landes Brandenburg und der Integrationsbeauftragten des Landes.
URL:https://buergerstiftung-barnim-uckermark.de/aktuelle/frauenfruehstueck-prenzlau/2026-04-22/
LOCATION:Begegnungsstätte DIESTER\, Diesterwegstraße 6\, 17291\, Prenzlau
CATEGORIES:Women Action Space
ATTACH;FMTTYPE=image/jpeg:https://buergerstiftung-barnim-uckermark.de/wp-content/uploads/2024/01/Frauenfruehstueck.jpg
GEO:53.3107388;13.8603391
X-APPLE-STRUCTURED-LOCATION;VALUE=URI;X-ADDRESS=Begegnungsstätte DIESTER Diesterwegstraße 6 17291 Prenzlau;X-APPLE-RADIUS=500;X-TITLE=Diesterwegstraße 6:geo:13.8603391,53.3107388
END:VEVENT
BEGIN:VEVENT
DTSTART;TZID=Europe/Berlin:20260421T140000
DTEND;TZID=Europe/Berlin:20260421T160000
DTSTAMP:20260425T160617
CREATED:20241122T164413Z
LAST-MODIFIED:20241122T170940Z
UID:10000670-1776780000-1776787200@buergerstiftung-barnim-uckermark.de
SUMMARY:Erzählcafé & Familiennachmittag mit Women Action Space Prenzlau
DESCRIPTION:Das wöchentliche Erzählcafé als Familiennachmittag ist offen für alle. Es ist ein Angebot für die Sprach-Praxis zum Deutsch lernen und Menschen treffen. Hier wird für Kinder und Eltern Hilfe bei Hausaufgaben angeboten\, gemeinsam gespielt\, gekocht und vieles mehr.\n\nJeden Dienstag in der Zeit von 14:00 bis 16:00 Uhrin den Räumlichkeiten der Begegnungsstätte „Diester“\, Diesterweg Straße 6\, 17291 Prenzlau.\n\nDas Erzählcafé & Familiennachmittag findet im Rahmen des Projektes „Women Action Space“ der Bürgerstiftung Barnim Uckermark in Kooperation mit der Stadt Prenzlau statt.\n\nAnsprechpartnerin ist Sekine Flämig: flaemig@buergerstiftung-barnim-uckermark.de oder Tel./WhatsApp 01520 60 61 026
URL:https://buergerstiftung-barnim-uckermark.de/aktuelle/erzaehlcafe-familiennachmittag-mit-women-action-space-prenzlau/2026-04-21/
LOCATION:Begegnungsstätte DIESTER\, Diesterwegstraße 6\, 17291\, Prenzlau
ATTACH;FMTTYPE=image/jpeg:https://buergerstiftung-barnim-uckermark.de/wp-content/uploads/2024/11/IMG_5175.jpg
GEO:53.3107388;13.8603391
X-APPLE-STRUCTURED-LOCATION;VALUE=URI;X-ADDRESS=Begegnungsstätte DIESTER Diesterwegstraße 6 17291 Prenzlau;X-APPLE-RADIUS=500;X-TITLE=Diesterwegstraße 6:geo:13.8603391,53.3107388
END:VEVENT
BEGIN:VEVENT
DTSTART;TZID=Europe/Berlin:20220521T130000
DTEND;TZID=Europe/Berlin:20220521T160000
DTSTAMP:20260425T160617
CREATED:20220517T100509Z
LAST-MODIFIED:20220517T100614Z
UID:10000131-1653138000-1653148800@buergerstiftung-barnim-uckermark.de
SUMMARY:Workshop: Bleiberechtsregelungen für junge Geflüchtete in Prenzlau
DESCRIPTION:Gemeinsam mit dem Flüchtlingsrat Brandenburg führen wir am 21. Mai in Prenzlau einen Workshop durch zu Fragen rund um Aufenthaltstitel\, Ausbildungs- und Beschäftigungsduldung\, Härtefallkommission. \nReferentin ist die Rechtsanwältin Josephine Koberling. \nDer Workshop richtet sich an junge Geflüchtete mit Duldung und findet mit Sprachmittlung in die Sprachen Englisch und Farsi statt. \nWeitere Informationen zum Workshop: https://www.fluechtlingsrat-brandenburg.de/21-05-22-13-16uhr-workshop-bleiberechtsregelungen-fuer-junge-gefluechtete-in-prenzlau/
URL:https://buergerstiftung-barnim-uckermark.de/aktuelle/workshop-bleiberechtsregelungen-fuer-junge-gefluechtete-in-prenzlau/
LOCATION:Begegnungsstätte DIESTER\, Diesterwegstraße 6\, 17291\, Prenzlau
ORGANIZER;CN="B%C3%BCrgerstiftung Barnim Uckermark / Projektb%C3%BCro Prenzlau":MAILTO:projektbuero@buergerstiftung-barnim-uckermark.de
GEO:53.3107388;13.8603391
X-APPLE-STRUCTURED-LOCATION;VALUE=URI;X-ADDRESS=Begegnungsstätte DIESTER Diesterwegstraße 6 17291 Prenzlau;X-APPLE-RADIUS=500;X-TITLE=Diesterwegstraße 6:geo:13.8603391,53.3107388
END:VEVENT
BEGIN:VEVENT
DTSTART;TZID=Europe/Berlin:20200130T170000
DTEND;TZID=Europe/Berlin:20200130T190000
DTSTAMP:20260425T160617
CREATED:20191120T221616Z
LAST-MODIFIED:20200109T183456Z
UID:10000247-1580403600-1580410800@buergerstiftung-barnim-uckermark.de
SUMMARY:Humortraining - Ehrenamt? Das kann ja heiter werden!
DESCRIPTION:Na das kann ja heiter werden …\nDie Bürgerstiftung Barnim Uckermark lädt Freiwillige und Ehrenamtliche ein zum \nHumortraining mit Katja Lohmann (Theaterpädagogin aus Berlin). \n30.  Januar 2019\n17:00 – 19:00 Uhr\nim DIESTER\, Diesterwegstraße 6\, 17291 Prenzlau\, 1.OG \nSehnen Sie sich nach noch mehr Freude und Gelassenheit in ihrer ehrenamtlichen Tätigkeit? Wünschen Sie sich\, Ihren Humor auch im stressigen Alltag nicht zu verlieren und über sich selbst lachen zu können? \nIn diesem Workshop trainieren wir\, wie es gelingen kann\, den eigenen Humor (neu) zu entdecken\, um das Leben mit all seinen Herausforderungen leichter zu nehmen und tief zu genießen.\nMittels praktisch anwendbarer Übungen kommen wir der befreienden Wirkung des Humors auf die Spur\, erproben humorvolle Perspektivwechsel und lernen die positiven Effekte des Humors gezielt zu nutzen. Und gelacht wird dabei natürlich auch! \nWir haben Platz für 15 Teilnehmer*innen und bitten um Anmeldung bis 28.01.2020 im Projektbüro Prenzlau\, Tel. 03984-9389010\, projektbuero@buergerstiftung-barnim-uckermark.de
URL:https://buergerstiftung-barnim-uckermark.de/aktuelle/humortraining-ehrenamt-das-kann-ja-heiter-werden/
LOCATION:Begegnungsstätte DIESTER\, Diesterwegstraße 6\, 17291\, Prenzlau
CATEGORIES:Lesezauber,Projekt "Gemeinsame Sache",Projektbüro Prenzlau,ZAUNGÄSTE
ATTACH;FMTTYPE=image/jpeg:https://buergerstiftung-barnim-uckermark.de/wp-content/uploads/2019/11/Foto_Humortraining.jpg
GEO:53.3107388;13.8603391
X-APPLE-STRUCTURED-LOCATION;VALUE=URI;X-ADDRESS=Begegnungsstätte DIESTER Diesterwegstraße 6 17291 Prenzlau;X-APPLE-RADIUS=500;X-TITLE=Diesterwegstraße 6:geo:13.8603391,53.3107388
END:VEVENT
BEGIN:VEVENT
DTSTART;TZID=Europe/Berlin:20181115T170000
DTEND;TZID=Europe/Berlin:20181115T200000
DTSTAMP:20260425T160617
CREATED:20181103T010254Z
LAST-MODIFIED:20210106T205320Z
UID:10000208-1542301200-1542312000@buergerstiftung-barnim-uckermark.de
SUMMARY:Workshop "Alltag in arabisch-islamisch geprägten Kulturen"
DESCRIPTION:Fortbildung für Engagierte\, die Geflüchtete und Migrant*innen unterstützen. Der Workshop vermittelt anschaulich Informationen zu den vorherrschenden Normen und Praktiken des Alltags in Ländern wie beispielsweise Syrien\, Iran\, Irak und Palästina. Dabei werden die gängigen Auffassungen zu Familie und Sexualität\, Ernährung und Kleidung\, aber auch zu Bildung\, Musik und Theater dargestellt. Er soll ein differenziertes Bild des Islam aufzeigen und einfache Alltagserfahrungen\, Erwartungen\, Wünsche und Hoffnungen wie auch Ängste veranschaulichen. \nReferent: Amin Dabbagh (Deutsch-palästinensischer Mediator mit langjährigen beruflichen Erfahrungen in verschiedenen arabischen Ländern)\, in Kooperation mit FAZIT
URL:https://buergerstiftung-barnim-uckermark.de/aktuelle/workshop-alltag-in-arabisch-islamisch-gepraegten-kulturen/
LOCATION:Begegnungsstätte DIESTER\, Diesterwegstraße 6\, 17291\, Prenzlau
CATEGORIES:Projekt "Gemeinsame Sache"
GEO:53.3107388;13.8603391
X-APPLE-STRUCTURED-LOCATION;VALUE=URI;X-ADDRESS=Begegnungsstätte DIESTER Diesterwegstraße 6 17291 Prenzlau;X-APPLE-RADIUS=500;X-TITLE=Diesterwegstraße 6:geo:13.8603391,53.3107388
END:VEVENT
BEGIN:VEVENT
DTSTART;TZID=Europe/Berlin:20180817T100000
DTEND;TZID=Europe/Berlin:20180817T120000
DTSTAMP:20260425T160617
CREATED:20180816T140305Z
LAST-MODIFIED:20180816T140305Z
UID:10000200-1534500000-1534507200@buergerstiftung-barnim-uckermark.de
SUMMARY:Women Action Space Prenzlau im August
DESCRIPTION:FRAUEN-FRÜHSTÜCK im DIESTER\n… Offener Austausch und Vernetzung mit Frauen unterschiedlicher Herkunft. Außerdem möchten wir mit Euch die Themen für unsere geplante Frauenkonferenz besprechen. Kommt vorbei! \nWir laden ein zum Frauentreffen im August „Women Action Space – Vernetzung und Aktionsraum für Frauen mit und ohne Fluchterfahrung in Prenzlau“ \nDas Projekt wird gefördert vom Ministerium für Arbeit\, Soziales\, Gesundheit\, Frauen und Familie des Landes Brandenburg und der Landes-Integrationsbeauftragten.
URL:https://buergerstiftung-barnim-uckermark.de/aktuelle/women-action-space-prenzlau-im-august/
LOCATION:Begegnungsstätte DIESTER\, Diesterwegstraße 6\, 17291\, Prenzlau
ORGANIZER;CN="B%C3%BCrgerstiftung Barnim Uckermark / Projektb%C3%BCro Prenzlau":MAILTO:projektbuero@buergerstiftung-barnim-uckermark.de
GEO:53.3107388;13.8603391
X-APPLE-STRUCTURED-LOCATION;VALUE=URI;X-ADDRESS=Begegnungsstätte DIESTER Diesterwegstraße 6 17291 Prenzlau;X-APPLE-RADIUS=500;X-TITLE=Diesterwegstraße 6:geo:13.8603391,53.3107388
END:VEVENT
BEGIN:VEVENT
DTSTART;TZID=Europe/Berlin:20180619T100000
DTEND;TZID=Europe/Berlin:20180619T100000
DTSTAMP:20260425T160617
CREATED:20180615T221744Z
LAST-MODIFIED:20180615T221823Z
UID:10000132-1529402400-1529402400@buergerstiftung-barnim-uckermark.de
SUMMARY:Women Action Space Prenzlau ON TOUR
DESCRIPTION:Exkursion für Frauen durch Prenzlau zum Thema: \n„Das Leben mit (kleinen) Kindern“ \nWir zeigen Euch verschiedene Beratungsstellen\, Elterntreffs und Anlaufstellen in Prenzlau\n• Stadtbibliothek / Kinderbibliothek\n• Beratungshaus Lichtblick (Familienberatung/ Krabbelgruppe)\n• Jugendamt\n• Netzwerk Gesunde Kinder / Elterntreff \nTreffpunkt 10:00 Uhr im Diester \nWir laden ein zum monatlichen Frauentreffen „Women Action Space“ – Vernetzung und Aktionsraum für Frauen mit und ohne Fluchterfahrung in Prenzlau. \nDas Projekt wird gefördert vom Ministerium für Arbeit\, Soziales\, Gesundheit\, Frauen und Familie des Landes Brandenburg und der Landes-Integrationsbeauftragten.
URL:https://buergerstiftung-barnim-uckermark.de/aktuelle/women-action-space-prenzlau-on-tour/
LOCATION:Begegnungsstätte DIESTER\, Diesterwegstraße 6\, 17291\, Prenzlau
CATEGORIES:Projektbüro Prenzlau
ORGANIZER;CN="B%C3%BCrgerstiftung Barnim Uckermark / Projektb%C3%BCro Prenzlau":MAILTO:projektbuero@buergerstiftung-barnim-uckermark.de
GEO:53.3107388;13.8603391
X-APPLE-STRUCTURED-LOCATION;VALUE=URI;X-ADDRESS=Begegnungsstätte DIESTER Diesterwegstraße 6 17291 Prenzlau;X-APPLE-RADIUS=500;X-TITLE=Diesterwegstraße 6:geo:13.8603391,53.3107388
END:VEVENT
END:VCALENDAR