BEGIN:VCALENDAR
VERSION:2.0
PRODID:-//BÜRGERSTIFTUNG BARNIM UCKERMARK - ECPv6.15.20//NONSGML v1.0//EN
CALSCALE:GREGORIAN
METHOD:PUBLISH
X-ORIGINAL-URL:https://buergerstiftung-barnim-uckermark.de
X-WR-CALDESC:Veranstaltungen für BÜRGERSTIFTUNG BARNIM UCKERMARK
REFRESH-INTERVAL;VALUE=DURATION:PT1H
X-Robots-Tag:noindex
X-PUBLISHED-TTL:PT1H
BEGIN:VTIMEZONE
TZID:Europe/Berlin
BEGIN:DAYLIGHT
TZOFFSETFROM:+0100
TZOFFSETTO:+0200
TZNAME:CEST
DTSTART:20190331T010000
END:DAYLIGHT
BEGIN:STANDARD
TZOFFSETFROM:+0200
TZOFFSETTO:+0100
TZNAME:CET
DTSTART:20191027T010000
END:STANDARD
BEGIN:DAYLIGHT
TZOFFSETFROM:+0100
TZOFFSETTO:+0200
TZNAME:CEST
DTSTART:20200329T010000
END:DAYLIGHT
BEGIN:STANDARD
TZOFFSETFROM:+0200
TZOFFSETTO:+0100
TZNAME:CET
DTSTART:20201025T010000
END:STANDARD
BEGIN:DAYLIGHT
TZOFFSETFROM:+0100
TZOFFSETTO:+0200
TZNAME:CEST
DTSTART:20210328T010000
END:DAYLIGHT
BEGIN:STANDARD
TZOFFSETFROM:+0200
TZOFFSETTO:+0100
TZNAME:CET
DTSTART:20211031T010000
END:STANDARD
BEGIN:DAYLIGHT
TZOFFSETFROM:+0100
TZOFFSETTO:+0200
TZNAME:CEST
DTSTART:20220327T010000
END:DAYLIGHT
BEGIN:STANDARD
TZOFFSETFROM:+0200
TZOFFSETTO:+0100
TZNAME:CET
DTSTART:20221030T010000
END:STANDARD
BEGIN:DAYLIGHT
TZOFFSETFROM:+0100
TZOFFSETTO:+0200
TZNAME:CEST
DTSTART:20230326T010000
END:DAYLIGHT
BEGIN:STANDARD
TZOFFSETFROM:+0200
TZOFFSETTO:+0100
TZNAME:CET
DTSTART:20231029T010000
END:STANDARD
BEGIN:DAYLIGHT
TZOFFSETFROM:+0100
TZOFFSETTO:+0200
TZNAME:CEST
DTSTART:20240331T010000
END:DAYLIGHT
BEGIN:STANDARD
TZOFFSETFROM:+0200
TZOFFSETTO:+0100
TZNAME:CET
DTSTART:20241027T010000
END:STANDARD
BEGIN:DAYLIGHT
TZOFFSETFROM:+0100
TZOFFSETTO:+0200
TZNAME:CEST
DTSTART:20250330T010000
END:DAYLIGHT
BEGIN:STANDARD
TZOFFSETFROM:+0200
TZOFFSETTO:+0100
TZNAME:CET
DTSTART:20251026T010000
END:STANDARD
BEGIN:DAYLIGHT
TZOFFSETFROM:+0100
TZOFFSETTO:+0200
TZNAME:CEST
DTSTART:20260329T010000
END:DAYLIGHT
BEGIN:STANDARD
TZOFFSETFROM:+0200
TZOFFSETTO:+0100
TZNAME:CET
DTSTART:20261025T010000
END:STANDARD
BEGIN:DAYLIGHT
TZOFFSETFROM:+0100
TZOFFSETTO:+0200
TZNAME:CEST
DTSTART:20270328T010000
END:DAYLIGHT
BEGIN:STANDARD
TZOFFSETFROM:+0200
TZOFFSETTO:+0100
TZNAME:CET
DTSTART:20271031T010000
END:STANDARD
END:VTIMEZONE
BEGIN:VEVENT
DTSTART;TZID=Europe/Berlin:20260416T163000
DTEND;TZID=Europe/Berlin:20260416T190000
DTSTAMP:20260422T231648
CREATED:20241122T164608Z
LAST-MODIFIED:20241122T164715Z
UID:10000756-1776357000-1776366000@buergerstiftung-barnim-uckermark.de
SUMMARY:Sprach- und Begegnungscafé Eberswalde
DESCRIPTION:Zeit\, sich zu begegnen!\nSprach- und Begegnungscafé der Bürgerstiftung Barnim Uckermark \njeden Donnerstag von 16:30 bis 19:00 Uhr \nim Café des Amadeu-Antonio-Hauses\, Puschkinstraße 13 in Eberswalde
URL:https://buergerstiftung-barnim-uckermark.de/aktuelle/sprach-und-begegnungscafe-2-2/2026-04-16/
LOCATION:Bürgerbildungszentrum Amadeu Antonio\, Café Puschkinstraße 13 16225 Eberswalde
CATEGORIES:Freiwilligenagentur
ATTACH;FMTTYPE=image/jpeg:https://buergerstiftung-barnim-uckermark.de/wp-content/uploads/2023/03/Sprachcafe.jpg
END:VEVENT
BEGIN:VEVENT
DTSTART;TZID=Europe/Berlin:20241128T183000
DTEND;TZID=Europe/Berlin:20241128T183000
DTSTAMP:20260422T231648
CREATED:20241119T152628Z
LAST-MODIFIED:20241119T152708Z
UID:10000594-1732818600-1732818600@buergerstiftung-barnim-uckermark.de
SUMMARY:Filmvorführung ÜBER UNS VON UNS
DESCRIPTION:Am 28. November 2024 zeigen wir um 18.30 Uhr zusammen mit der Listenverbindung „Bessere Chancen – Für ein Miteinander“ Rand Beirutys ÜBER UNS VON UNS. Die Plätze im Sprachcafé im Bürgerbildungszentrum Amadeu Antonio sind begrenzt.  \nZum Film: ÜBER UNS VON UNS folgt dem Leben von sieben Teenagerinnen\, die sich auf eine Reise durch ihre Jugend in Eberswalde begeben. Neben den typischen Herausforderungen – Freundschaft\, Schule und Selbstfindung – setzen sich die Mädchen mit den Nuancen ihrer Identität als Einwanderer und Flüchtlinge auseinander. Ihre Erfahrungen mit Vertreibung\, kultureller Anpassung und dem Druck der Assimilation verleihen ihrer Geschichte über das Erwachsenwerden zusätzliche Komplexität. Ausgehend von einen Theaterprojekt mit dem Eberswalder Zentrum für demokratische Kultur\, Jugendarbeit und Schule e.V. im Programm „Kultur macht stark. Bündnisse für Bildung“. „tanz + theater machen stark“ mit dem Bundesverband Freie Darstellende Künste bot die Regisseurin Beiruty Workshops an\, in denen die Mädchen ihre Hoffnungen\, Träume und Ängste durch Schreiben\, Musik und Schauspiel erkundeten. Anschließend schrieben sie Szenen\, um sie vor der Kamera aufzuführen. Diese Szenen wurden in Traumsequenzen umgewandelt\, in denen sich die Mädchen ihre Zukunft vorstellen\, schmerzhafte Erfahrungen verarbeiten und spielerisch in Zukunftsperspektiven übersetzen.  \nDie Aufführungen von ÜBER UNS VON UNS erfolgen im November 2024 erfolgen in Kooperation mit der Stadt Eberswalde.  \nMehr über die Listenverbindung „Bessere Chancen – Für ein Miteinander“ erfährt mensch hier: www.beirat-barnim.de.
URL:https://buergerstiftung-barnim-uckermark.de/aktuelle/filmvorfuehrung-ueber-uns-von-uns/
LOCATION:Bürgerbildungszentrum Amadeu Antonio\, Café Puschkinstraße 13 16225 Eberswalde
ATTACH;FMTTYPE=image/jpeg:https://buergerstiftung-barnim-uckermark.de/wp-content/uploads/2024/11/csm_uuvu-plakat-RealFiction_800_252501bdf3.jpg
ORGANIZER;CN="B%C3%BCrgerstiftung Barnim Uckermark":MAILTO:kontakt@buergerstiftung-barnim-uckermark.de
END:VEVENT
BEGIN:VEVENT
DTSTART;TZID=Europe/Berlin:20231219T110000
DTEND;TZID=Europe/Berlin:20231219T130000
DTSTAMP:20260422T231648
CREATED:20230608T144247Z
LAST-MODIFIED:20230608T144345Z
UID:10000481-1702983600-1702990800@buergerstiftung-barnim-uckermark.de
SUMMARY:Frauenfrühstück Eberswalde
DESCRIPTION:Gemeinsam * Austausch * Vernetzung * Unterstützung \nWillkommen beim Frauenfrühstück mit Andrea. \nJeden Dienstag in der Zeit von 11:00 bis 13:00 Uhr \nim Café des Amadeu-Antonio-Hauses\, Puschkinstraße 13 in Eberswalde.
URL:https://buergerstiftung-barnim-uckermark.de/aktuelle/frauenfruehstueck-eberswalde/2023-12-19/
LOCATION:Bürgerbildungszentrum Amadeu Antonio\, Café Puschkinstraße 13 16225 Eberswalde
CATEGORIES:Freiwilligenagentur
ATTACH;FMTTYPE=image/jpeg:https://buergerstiftung-barnim-uckermark.de/wp-content/uploads/2023/06/Frauenfruehstueck-ew.jpg
END:VEVENT
BEGIN:VEVENT
DTSTART;TZID=Europe/Berlin:20230914T160000
DTEND;TZID=Europe/Berlin:20230914T190000
DTSTAMP:20260422T231648
CREATED:20230912T104826Z
LAST-MODIFIED:20230912T104826Z
UID:10000555-1694707200-1694718000@buergerstiftung-barnim-uckermark.de
SUMMARY:Fest der Patenschaften in Eberswalde
DESCRIPTION:Am 14.09.2023 von 16:00-19:00 Uhr laden wir zum Sommerfest ein: Tandems unseres Eberswalder Patenschaftsprogrammes“Gemeinsame Sache“\, Freunde unseres Sprachcafés und Interessierte\, die gerne an einer Gemeinschaft positiver Menschen teilhaben möchten. Kommt vorbei\, bringt – wenn Ihr woll – etwas zu Essen mit und habt Spaß.
URL:https://buergerstiftung-barnim-uckermark.de/aktuelle/fest-der-patenschaften-in-eberswalde/
LOCATION:Bürgerbildungszentrum Amadeu Antonio\, Café Puschkinstraße 13 16225 Eberswalde
ATTACH;FMTTYPE=image/png:https://buergerstiftung-barnim-uckermark.de/wp-content/uploads/2022/06/Postkarte_Sommerfest_2022.png
END:VEVENT
BEGIN:VEVENT
DTSTART;TZID=Europe/Berlin:20230420T163000
DTEND;TZID=Europe/Berlin:20230420T190000
DTSTAMP:20260422T231648
CREATED:20210823T150124Z
LAST-MODIFIED:20210823T150352Z
UID:10000378-1682008200-1682017200@buergerstiftung-barnim-uckermark.de
SUMMARY:Sprach- und Begegnungscafé im Amadeu-Antonio-Haus
DESCRIPTION:Seit Juli 2021 können wir uns wieder live und in echt treffen! Mit Abstand und Maske und bei schönem Wetter auch auf der Terrasse des Cafés. Bitte loggen Sie sich über die Luca App ein und freuen Sie sich auf angenehme Begegnungen und interessante Unterhaltungen.
URL:https://buergerstiftung-barnim-uckermark.de/aktuelle/sprach-und-begegnungscafe-im-amadeu-antonio-haus/2023-04-20/
LOCATION:Bürgerbildungszentrum Amadeu Antonio\, Café Puschkinstraße 13 16225 Eberswalde
ATTACH;FMTTYPE=image/jpeg:https://buergerstiftung-barnim-uckermark.de/wp-content/uploads/2021/08/IMG_20200703_135414_172-002.jpg
END:VEVENT
BEGIN:VEVENT
DTSTART;VALUE=DATE:20200905
DTEND;VALUE=DATE:20200906
DTSTAMP:20260422T231648
CREATED:20200820T082808Z
LAST-MODIFIED:20200820T082808Z
UID:10000053-1599264000-1599350399@buergerstiftung-barnim-uckermark.de
SUMMARY:1001 Sprache - mehrsprachige Bücher nutzen
DESCRIPTION:
URL:https://buergerstiftung-barnim-uckermark.de/aktuelle/1001-sprache-mehrsprachige-buecher-nutzen/
LOCATION:Bürgerbildungszentrum Amadeu Antonio\, Café Puschkinstraße 13 16225 Eberswalde
CATEGORIES:Bürgerstiftung,Freiwilligenagentur,Lesezauber
ATTACH;FMTTYPE=image/jpeg:https://buergerstiftung-barnim-uckermark.de/wp-content/uploads/2020/08/IMG_20200820_100833-002-scaled.jpg
END:VEVENT
BEGIN:VEVENT
DTSTART;TZID=Europe/Berlin:20200306T180000
DTEND;TZID=Europe/Berlin:20200306T200000
DTSTAMP:20260422T231648
CREATED:20200227T084645Z
LAST-MODIFIED:20200227T084645Z
UID:10000251-1583517600-1583524800@buergerstiftung-barnim-uckermark.de
SUMMARY:Die Frauenbewegung im Sudan gestern und heute
DESCRIPTION:Aktivistinnen aus dem Sudan geben einen geschichtlichen Überblick über die Frauenbewegung und ihre Rolle in der Revolution\, aber vor allem über die jetzige Situation. In einer anschließenden Diskussionsrunde soll es zum Austausch mit anderen Frauen und Verbündeten kommen\, um Fragen zu klären und mögliche Strategien für die Zukunft zu erörtern. \nDie Veranstaltung richtet sich vor allem an Frauen mit Fluchterfahrung\, andere Interessierte sind herzlich willkommen. Übersetzungen in Deutsch\, Arabisch und Englisch sind möglich\, wir entscheiden gemeinsam\, in welcher Sprache der Vortrag sein wird.
URL:https://buergerstiftung-barnim-uckermark.de/aktuelle/die-frauenbewegung-im-sudan-gestern-und-heute/
LOCATION:Bürgerbildungszentrum Amadeu Antonio\, Café Puschkinstraße 13 16225 Eberswalde
ATTACH;FMTTYPE=image/jpeg:https://buergerstiftung-barnim-uckermark.de/wp-content/uploads/2020/02/pink_edit-002.jpg
ORGANIZER;CN="B%C3%BCrgerstiftung Barnim Uckermark":MAILTO:kontakt@buergerstiftung-barnim-uckermark.de
END:VEVENT
BEGIN:VEVENT
DTSTART;TZID=Europe/Berlin:20200224T183000
DTEND;TZID=Europe/Berlin:20200224T203000
DTSTAMP:20260422T231648
CREATED:20200208T120010Z
LAST-MODIFIED:20200208T120010Z
UID:10000030-1582569000-1582576200@buergerstiftung-barnim-uckermark.de
SUMMARY:Erzählcafé
DESCRIPTION:Begegnung und Austausch schaffen. Geschichten\, die verbinden. \nDas Erzählcafé schafft Raum zum Zuhören und für Begegnungen. Menschen erzählen ihre \npersönlichen Geschichten vom Ankommen und Bleiben in Brandenburg. Bei jedem Erzählcafé stehen \ndie Erlebnisse einer Person im Mittelpunkt\, die über ihr Leben erzählt. Wenn wir zuhören stellen wir \nfest: Manchmal haben andere Ähnliches erlebt… aber auf ganz eigene Weise. Und manchmal öffnet \nsich in der Erzählung ein komplett neuer Horizont. \nIm ersten Teil hört das Publikum der Erzählung  eines Gastes zu\, welche vom ErzählCafé Berlin e.V. \nmoderiert wird. Nach einer kurzen Pause können die Zuhörenden Nachfragen zum Verständnis und \nzur Vertiefung stellen. \nZu Gast: Slawa Wohlert \nDie Veranstaltung findet in Kooperation mit der Heinrich Böll Stiftung Brandenburg und dem ErzählCafé Berlin e.V. statt.
URL:https://buergerstiftung-barnim-uckermark.de/aktuelle/erzaehlcafe/
LOCATION:Bürgerbildungszentrum Amadeu Antonio\, Café Puschkinstraße 13 16225 Eberswalde
CATEGORIES:Bürgerstiftung
END:VEVENT
END:VCALENDAR