BEGIN:VCALENDAR
VERSION:2.0
PRODID:-//BÜRGERSTIFTUNG BARNIM UCKERMARK - ECPv6.15.20//NONSGML v1.0//EN
CALSCALE:GREGORIAN
METHOD:PUBLISH
X-WR-CALNAME:BÜRGERSTIFTUNG BARNIM UCKERMARK
X-ORIGINAL-URL:https://buergerstiftung-barnim-uckermark.de
X-WR-CALDESC:Veranstaltungen für BÜRGERSTIFTUNG BARNIM UCKERMARK
REFRESH-INTERVAL;VALUE=DURATION:PT1H
X-Robots-Tag:noindex
X-PUBLISHED-TTL:PT1H
BEGIN:VTIMEZONE
TZID:Europe/Berlin
BEGIN:DAYLIGHT
TZOFFSETFROM:+0100
TZOFFSETTO:+0200
TZNAME:CEST
DTSTART:20170326T010000
END:DAYLIGHT
BEGIN:STANDARD
TZOFFSETFROM:+0200
TZOFFSETTO:+0100
TZNAME:CET
DTSTART:20171029T010000
END:STANDARD
BEGIN:DAYLIGHT
TZOFFSETFROM:+0100
TZOFFSETTO:+0200
TZNAME:CEST
DTSTART:20180325T010000
END:DAYLIGHT
BEGIN:STANDARD
TZOFFSETFROM:+0200
TZOFFSETTO:+0100
TZNAME:CET
DTSTART:20181028T010000
END:STANDARD
BEGIN:DAYLIGHT
TZOFFSETFROM:+0100
TZOFFSETTO:+0200
TZNAME:CEST
DTSTART:20190331T010000
END:DAYLIGHT
BEGIN:STANDARD
TZOFFSETFROM:+0200
TZOFFSETTO:+0100
TZNAME:CET
DTSTART:20191027T010000
END:STANDARD
BEGIN:DAYLIGHT
TZOFFSETFROM:+0100
TZOFFSETTO:+0200
TZNAME:CEST
DTSTART:20200329T010000
END:DAYLIGHT
BEGIN:STANDARD
TZOFFSETFROM:+0200
TZOFFSETTO:+0100
TZNAME:CET
DTSTART:20201025T010000
END:STANDARD
BEGIN:DAYLIGHT
TZOFFSETFROM:+0100
TZOFFSETTO:+0200
TZNAME:CEST
DTSTART:20210328T010000
END:DAYLIGHT
BEGIN:STANDARD
TZOFFSETFROM:+0200
TZOFFSETTO:+0100
TZNAME:CET
DTSTART:20211031T010000
END:STANDARD
BEGIN:DAYLIGHT
TZOFFSETFROM:+0100
TZOFFSETTO:+0200
TZNAME:CEST
DTSTART:20220327T010000
END:DAYLIGHT
BEGIN:STANDARD
TZOFFSETFROM:+0200
TZOFFSETTO:+0100
TZNAME:CET
DTSTART:20221030T010000
END:STANDARD
BEGIN:DAYLIGHT
TZOFFSETFROM:+0100
TZOFFSETTO:+0200
TZNAME:CEST
DTSTART:20230326T010000
END:DAYLIGHT
BEGIN:STANDARD
TZOFFSETFROM:+0200
TZOFFSETTO:+0100
TZNAME:CET
DTSTART:20231029T010000
END:STANDARD
BEGIN:DAYLIGHT
TZOFFSETFROM:+0100
TZOFFSETTO:+0200
TZNAME:CEST
DTSTART:20240331T010000
END:DAYLIGHT
BEGIN:STANDARD
TZOFFSETFROM:+0200
TZOFFSETTO:+0100
TZNAME:CET
DTSTART:20241027T010000
END:STANDARD
END:VTIMEZONE
BEGIN:VEVENT
DTSTART;TZID=Europe/Berlin:20230327T170000
DTEND;TZID=Europe/Berlin:20230327T190000
DTSTAMP:20260424T122106
CREATED:20230321T212813Z
LAST-MODIFIED:20230321T212935Z
UID:10000404-1679936400-1679943600@buergerstiftung-barnim-uckermark.de
SUMMARY:Engagierter Stammtisch - Thema Kinderschutz
DESCRIPTION:Die Freiwilligenagentur Eberswalde lädt ein. \nSie sind bereits freiwillig aktiv oder wollen es werden und möchten sich mit anderen Ehrenamtlichen austauschen?  \nDann sind Sie richtig beim Engagierten Stammtisch! \nJedes Treffen startet mit einem Thema\, das vielleicht mit Ihrem eigenen Engagement zu tun oder aber einfach interessant für Sie ist. Im Anschluss können Sie sich mit anderen Freiwilligen dazu oder auch zu anderen Themen rund um’s Ehrenamt austauschen. \nIm März widmen wir uns dem Thema Kinderschutz und haben dazu die Kinderschutzbeauftragte des Landkreises eingeladen.
URL:https://buergerstiftung-barnim-uckermark.de/aktuelle/engagierter-stammtisch-thema-kinderschutz/
LOCATION:Bürgerbildungszentrum Amadeu Antonio\, Puschkinstraße 13\, Eberswalde\, 16225
CATEGORIES:Freiwilligenagentur
ATTACH;FMTTYPE=image/jpeg:https://buergerstiftung-barnim-uckermark.de/wp-content/uploads/2023/03/Engagierter-Stammtisch-Ebw-cover.jpg
GEO:52.8329172;13.813466
X-APPLE-STRUCTURED-LOCATION;VALUE=URI;X-ADDRESS=Bürgerbildungszentrum Amadeu Antonio Puschkinstraße 13 Eberswalde 16225;X-APPLE-RADIUS=500;X-TITLE=Puschkinstraße 13:geo:13.813466,52.8329172
END:VEVENT
BEGIN:VEVENT
DTSTART;TZID=Europe/Berlin:20200917T170000
DTEND;TZID=Europe/Berlin:20200917T200000
DTSTAMP:20260424T122106
CREATED:20200901T133652Z
LAST-MODIFIED:20200901T133652Z
UID:10000054-1600362000-1600372800@buergerstiftung-barnim-uckermark.de
SUMMARY:Leistungen für Asylbewerber*innen
DESCRIPTION:Die Informationsveranstaltung gibt neben einem allgemeinen Einstieg in die Materie des\nAsylbewerberleistungsrechts auch einen Überblick über die jüngsten Neuregelungen.\nAnhand von praktischen Beispielen werden Leistungsbescheide erläutert und Unklarheiten\nbeseitigt. Es wird Zeit für einen gemeinsamen Erfahrungsaustausch geben. \nIn Kooperation mit dem Flüchtlingsrat Brandenburg. \nBitte unbedingt vorher anmelden\, da die Plätze begrenzt sind.
URL:https://buergerstiftung-barnim-uckermark.de/aktuelle/leistungen-fuer-asylbewerberinnen/
LOCATION:Bürgerbildungszentrum Amadeu Antonio\, Puschkinstraße 13\, Eberswalde\, 16225
ORGANIZER;CN="B%C3%BCrgerstiftung Barnim Uckermark":MAILTO:kontakt@buergerstiftung-barnim-uckermark.de
GEO:52.8329172;13.813466
X-APPLE-STRUCTURED-LOCATION;VALUE=URI;X-ADDRESS=Bürgerbildungszentrum Amadeu Antonio Puschkinstraße 13 Eberswalde 16225;X-APPLE-RADIUS=500;X-TITLE=Puschkinstraße 13:geo:13.813466,52.8329172
END:VEVENT
BEGIN:VEVENT
DTSTART;TZID=Europe/Berlin:20191211T163000
DTEND;TZID=Europe/Berlin:20191211T180000
DTSTAMP:20260424T122106
CREATED:20191128T132506Z
LAST-MODIFIED:20191128T132506Z
UID:10000042-1576081800-1576087200@buergerstiftung-barnim-uckermark.de
SUMMARY:Engagierter Stammtisch
DESCRIPTION:Sind Sie bereits ehrenamtlich in Eberswalde tätig und wollen Ihr Engagement mit mehr Humor verknüpfen? \nMöchten Sie sich zukünftig engagieren und brauchen noch eine Portion Optimismus? \nMöchten Sie andere Freiwilligen treffen\, sich austauschen und vernetzen? \nDer Engagierte Stammtisch der Freiwilligenagentur Eberswalde ist die passende Gelegenheit dafür. Im vierten Quartal gönnen wir uns einen Mini-Workshop  mit der Humortrainerin Katja Lohmann. Bitte vorher anmelden\, da die Platzzahl begrenzt ist.
URL:https://buergerstiftung-barnim-uckermark.de/aktuelle/engagierter-stammtisch/
LOCATION:Bürgerbildungszentrum Amadeu Antonio\, Puschkinstraße 13\, Eberswalde\, 16225
GEO:52.8329172;13.813466
X-APPLE-STRUCTURED-LOCATION;VALUE=URI;X-ADDRESS=Bürgerbildungszentrum Amadeu Antonio Puschkinstraße 13 Eberswalde 16225;X-APPLE-RADIUS=500;X-TITLE=Puschkinstraße 13:geo:13.813466,52.8329172
END:VEVENT
BEGIN:VEVENT
DTSTART;TZID=Europe/Berlin:20191125T163000
DTEND;TZID=Europe/Berlin:20191125T193000
DTSTAMP:20260424T122106
CREATED:20191101T133738Z
LAST-MODIFIED:20191101T133738Z
UID:10000240-1574699400-1574710200@buergerstiftung-barnim-uckermark.de
SUMMARY:Deutsch als Zweitsprache lehren
DESCRIPTION:eine praktische Einführung für Freiwillige\, die Geflüchtete und Migrant*innen beim Deutschlernen unterstützen.
URL:https://buergerstiftung-barnim-uckermark.de/aktuelle/deutsch-als-zweitsprache-lehren/
LOCATION:Bürgerbildungszentrum Amadeu Antonio\, Puschkinstraße 13\, Eberswalde\, 16225
GEO:52.8329172;13.813466
X-APPLE-STRUCTURED-LOCATION;VALUE=URI;X-ADDRESS=Bürgerbildungszentrum Amadeu Antonio Puschkinstraße 13 Eberswalde 16225;X-APPLE-RADIUS=500;X-TITLE=Puschkinstraße 13:geo:13.813466,52.8329172
END:VEVENT
BEGIN:VEVENT
DTSTART;TZID=Europe/Berlin:20191118T163000
DTEND;TZID=Europe/Berlin:20191118T193000
DTSTAMP:20260424T122106
CREATED:20191101T134111Z
LAST-MODIFIED:20191101T134111Z
UID:10000241-1574094600-1574105400@buergerstiftung-barnim-uckermark.de
SUMMARY:Motivation und Selbstfürsorge im Ehrenamt
DESCRIPTION:Ein Angebot zum Austausch- und zur Reflexion für Engagierte in der Unterstützung von Geflüchteten.
URL:https://buergerstiftung-barnim-uckermark.de/aktuelle/motivation-und-selbstfuersorge-im-ehrenamt/
LOCATION:Bürgerbildungszentrum Amadeu Antonio\, Puschkinstraße 13\, Eberswalde\, 16225
GEO:52.8329172;13.813466
X-APPLE-STRUCTURED-LOCATION;VALUE=URI;X-ADDRESS=Bürgerbildungszentrum Amadeu Antonio Puschkinstraße 13 Eberswalde 16225;X-APPLE-RADIUS=500;X-TITLE=Puschkinstraße 13:geo:13.813466,52.8329172
END:VEVENT
BEGIN:VEVENT
DTSTART;TZID=Europe/Berlin:20191021T163000
DTEND;TZID=Europe/Berlin:20191021T193000
DTSTAMP:20260424T122106
CREATED:20190924T125151Z
LAST-MODIFIED:20190924T125151Z
UID:10000023-1571675400-1571686200@buergerstiftung-barnim-uckermark.de
SUMMARY:Interaktiver Workshop Deutsch als Fremdsprache
DESCRIPTION:Wie erkläre ich am besten den Akkusativ? Warum ist der Dativ noch komplizierter? Ist Grammatik wirklich so wichtig? Diese und andere Fragen werden am 21. Oktober 2019 von 16:30 bis 19:30 Uhr im Café im Amadeu-Antonio-Haus in einem interaktiven Workshop Deutsch als Fremdsprache lehren – eine praktische Einführung geklärt. Um vorherige Anmeldung wird gebeten.
URL:https://buergerstiftung-barnim-uckermark.de/aktuelle/interaktiver-workshop-deutsch-als-fremdsprache/
LOCATION:Bürgerbildungszentrum Amadeu Antonio\, Puschkinstraße 13\, Eberswalde\, 16225
GEO:52.8329172;13.813466
X-APPLE-STRUCTURED-LOCATION;VALUE=URI;X-ADDRESS=Bürgerbildungszentrum Amadeu Antonio Puschkinstraße 13 Eberswalde 16225;X-APPLE-RADIUS=500;X-TITLE=Puschkinstraße 13:geo:13.813466,52.8329172
END:VEVENT
BEGIN:VEVENT
DTSTART;TZID=Europe/Berlin:20190819T163000
DTEND;TZID=Europe/Berlin:20190819T193000
DTSTAMP:20260424T122106
CREATED:20190813T142311Z
LAST-MODIFIED:20190813T142311Z
UID:10000005-1566232200-1566243000@buergerstiftung-barnim-uckermark.de
SUMMARY:Workshop: Nähe und Distanz – Rund ums Thema Patenschaften mit Menschen mit Fluchterfahrung
DESCRIPTION:Wie lässt sich eine Patenschaft für beide Seiten positiv und bereichernd gestalten? \n\nWas kann ich geben\, was will ich geben und kann ich dafür auch etwas erwarten?\nWelche eigenen Erwartungen und Bedürfnisse habe ich?\n\nDas Thema wird durch einen theoretischen Input sowie Übungen vertieft und ein Erfahrungsaustausch angeregt.
URL:https://buergerstiftung-barnim-uckermark.de/aktuelle/workshop-naehe-und-distanz-rund-ums-thema-patenschaften-mit-menschen-mit-fluchterfahrung/
LOCATION:Bürgerbildungszentrum Amadeu Antonio\, Puschkinstraße 13\, Eberswalde\, 16225
ORGANIZER;CN="B%C3%BCrgerstiftung Barnim Uckermark":MAILTO:kontakt@buergerstiftung-barnim-uckermark.de
GEO:52.8329172;13.813466
X-APPLE-STRUCTURED-LOCATION;VALUE=URI;X-ADDRESS=Bürgerbildungszentrum Amadeu Antonio Puschkinstraße 13 Eberswalde 16225;X-APPLE-RADIUS=500;X-TITLE=Puschkinstraße 13:geo:13.813466,52.8329172
END:VEVENT
BEGIN:VEVENT
DTSTART;TZID=Europe/Berlin:20190412T200000
DTEND;TZID=Europe/Berlin:20190412T220000
DTSTAMP:20260424T122106
CREATED:20190317T170143Z
LAST-MODIFIED:20190317T170143Z
UID:10000219-1555099200-1555106400@buergerstiftung-barnim-uckermark.de
SUMMARY:EMA YAZURLO (Argentinien) // Benefizkonzert für den Flüchtlingsfonds
DESCRIPTION:Eine Aufforderung zur Solidarität und zum Tanzen\nEMA YAZURLO und QUILOMBO SONORO aus Argentinien präsentieren ihr neues Album“Music y Amor“ nun erstmals auch in Deutschland. Uns erwartet ein wilder Mix aus südamerikanischen Rhythmen zwischen Weltmusik\, Cumbia\, Reggae\, HipHop\, Rap und Electro Swing\, dargeboten mit teilweise südamerikanischen Instrumenten wie der Charango oder Quatro. \nEMA YAZURLO teilte die Bühne schon mit Bands wie: EMIR KUSTURICA\, AMADOU & MARIAN\, MAD PROFESOR\, MOLOTOV\, FISHBONE\, LOS FABULOSOS CADILLACS\, LA VELA PUERCA und dem DUBIOZA COLECTIV. \nBürgerbildungszentrum Amadeu Antonio // Einlass 19 Uhr\, Beginn20 Uhr \nDas Konzert findet im Rahmen der Reihe TOHUWABUHU statt\, und ist eine Veranstaltung des Kulturamtes der Stadt Eberswalde. //Hier gibt es Hörproben: https://www.youtube.com/watch?v=jTj9uUriIOE&list=PLGhBW3pBDSfEDLADOF0_GxVafOPyp3m0N \nhttp://www.emayazurlo.com/
URL:https://buergerstiftung-barnim-uckermark.de/aktuelle/ema-yazurlo-argentinien-benefizkonzert-fuer-den-fluechtlingsfonds/
LOCATION:Bürgerbildungszentrum Amadeu Antonio\, Puschkinstraße 13\, Eberswalde\, 16225
ATTACH;FMTTYPE=image/jpeg:https://buergerstiftung-barnim-uckermark.de/wp-content/uploads/2019/03/PresseFotoEMA2018.jpg
GEO:52.8329172;13.813466
X-APPLE-STRUCTURED-LOCATION;VALUE=URI;X-ADDRESS=Bürgerbildungszentrum Amadeu Antonio Puschkinstraße 13 Eberswalde 16225;X-APPLE-RADIUS=500;X-TITLE=Puschkinstraße 13:geo:13.813466,52.8329172
END:VEVENT
BEGIN:VEVENT
DTSTART;TZID=Europe/Berlin:20190219T160000
DTEND;TZID=Europe/Berlin:20190219T190000
DTSTAMP:20260424T122106
CREATED:20190204T105258Z
LAST-MODIFIED:20190214T104341Z
UID:10000215-1550592000-1550602800@buergerstiftung-barnim-uckermark.de
SUMMARY:Ideenwerkstatt Freiwilligentag
DESCRIPTION:Für Vereine\, Initiativen\, gemeinnützige Einrichtungen\, die beim diesjährigen Freiwilligentag ein Mitmachprojekt anbieten wollen und dazu Ideen entwickeln bzw. ausfeilen möchten.
URL:https://buergerstiftung-barnim-uckermark.de/aktuelle/ideenwerkstatt-freiwilligentag/
LOCATION:Bürgerbildungszentrum Amadeu Antonio\, Puschkinstraße 13\, Eberswalde\, 16225
CATEGORIES:Freiwilligenagentur
ATTACH;FMTTYPE=image/jpeg:https://buergerstiftung-barnim-uckermark.de/wp-content/uploads/2019/02/20180428_Freiwilligen_Tag_Ulrich_Wessollek-3114.jpg
GEO:52.8329172;13.813466
X-APPLE-STRUCTURED-LOCATION;VALUE=URI;X-ADDRESS=Bürgerbildungszentrum Amadeu Antonio Puschkinstraße 13 Eberswalde 16225;X-APPLE-RADIUS=500;X-TITLE=Puschkinstraße 13:geo:13.813466,52.8329172
END:VEVENT
BEGIN:VEVENT
DTSTART;TZID=Europe/Berlin:20190214T170000
DTEND;TZID=Europe/Berlin:20190214T190000
DTSTAMP:20260424T122106
CREATED:20190214T101641Z
LAST-MODIFIED:20190214T101641Z
UID:10000217-1550163600-1550170800@buergerstiftung-barnim-uckermark.de
SUMMARY:Klimaschutz Hand in Hand - Thema Müll
DESCRIPTION:In Kooperation mit Transition Thrive wollen wir uns im Sprachcafé mit Fragen (und Vokabeln 🙂 rund Müll\, Müllvermeidung\, Mülltrennung … beschäftigen. Guter Kaffee\, nette Leute und Gepräche!
URL:https://buergerstiftung-barnim-uckermark.de/aktuelle/klimaschutz-hand-in-hand-thema-muell/
LOCATION:Bürgerbildungszentrum Amadeu Antonio\, Puschkinstraße 13\, Eberswalde\, 16225
ATTACH;FMTTYPE=image/jpeg:https://buergerstiftung-barnim-uckermark.de/wp-content/uploads/2018/12/Postkarte-Klimanauten-Transition-Thrive.jpg
GEO:52.8329172;13.813466
X-APPLE-STRUCTURED-LOCATION;VALUE=URI;X-ADDRESS=Bürgerbildungszentrum Amadeu Antonio Puschkinstraße 13 Eberswalde 16225;X-APPLE-RADIUS=500;X-TITLE=Puschkinstraße 13:geo:13.813466,52.8329172
END:VEVENT
BEGIN:VEVENT
DTSTART;TZID=Europe/Berlin:20181213T163000
DTEND;TZID=Europe/Berlin:20181213T190000
DTSTAMP:20260424T122106
CREATED:20181206T090341Z
LAST-MODIFIED:20181206T133004Z
UID:10000210-1544718600-1544727600@buergerstiftung-barnim-uckermark.de
SUMMARY:Klimaschutz Hand in Hand - ENERGIE
DESCRIPTION:In Kooperation mit dem Projekt „transition Thrive“ des Hebewerk e.V. bieten wir ein mal pro Monat thematische Sprachtandems rund um Klima\, Alltag und nachhaltiges Leben an. Es gibt angeleitete Gesprächsrunden\, Spiele und Interaktives – diesmal alles rund um Energie.
URL:https://buergerstiftung-barnim-uckermark.de/aktuelle/klimaschutz-hand-in-hand/
LOCATION:Bürgerbildungszentrum Amadeu Antonio\, Puschkinstraße 13\, Eberswalde\, 16225
ATTACH;FMTTYPE=image/jpeg:https://buergerstiftung-barnim-uckermark.de/wp-content/uploads/2018/12/Postkarte-Klimanauten-Transition-Thrive.jpg
GEO:52.8329172;13.813466
X-APPLE-STRUCTURED-LOCATION;VALUE=URI;X-ADDRESS=Bürgerbildungszentrum Amadeu Antonio Puschkinstraße 13 Eberswalde 16225;X-APPLE-RADIUS=500;X-TITLE=Puschkinstraße 13:geo:13.813466,52.8329172
END:VEVENT
BEGIN:VEVENT
DTSTART;TZID=Europe/Berlin:20181018T170000
DTEND;TZID=Europe/Berlin:20181018T190000
DTSTAMP:20260424T122106
CREATED:20181002T080148Z
LAST-MODIFIED:20190817T092842Z
UID:10000204-1539882000-1539889200@buergerstiftung-barnim-uckermark.de
SUMMARY:Klimaschutz Hand in Hand - Tandems starten
DESCRIPTION:
URL:https://buergerstiftung-barnim-uckermark.de/aktuelle/klimaschutz-hand-in-hand-tandems-starten/
LOCATION:Bürgerbildungszentrum Amadeu Antonio\, Puschkinstraße 13\, Eberswalde\, 16225
CATEGORIES:Freiwilligenagentur
GEO:52.8329172;13.813466
X-APPLE-STRUCTURED-LOCATION;VALUE=URI;X-ADDRESS=Bürgerbildungszentrum Amadeu Antonio Puschkinstraße 13 Eberswalde 16225;X-APPLE-RADIUS=500;X-TITLE=Puschkinstraße 13:geo:13.813466,52.8329172
END:VEVENT
BEGIN:VEVENT
DTSTART;TZID=Europe/Berlin:20181004T170000
DTEND;TZID=Europe/Berlin:20181004T190000
DTSTAMP:20260424T122106
CREATED:20180922T062416Z
LAST-MODIFIED:20180922T062555Z
UID:10000203-1538672400-1538679600@buergerstiftung-barnim-uckermark.de
SUMMARY:Klimaschutz Hand in Hand - Auftaktveranstaltung
DESCRIPTION:Klimanauten: Tandems für den Klimaschutz! In Kooperation mit Transition Thrive
URL:https://buergerstiftung-barnim-uckermark.de/aktuelle/klimaschutz-hand-in-hand-auftaktveranstaltung/
LOCATION:Bürgerbildungszentrum Amadeu Antonio\, Puschkinstraße 13\, Eberswalde\, 16225
GEO:52.8329172;13.813466
X-APPLE-STRUCTURED-LOCATION;VALUE=URI;X-ADDRESS=Bürgerbildungszentrum Amadeu Antonio Puschkinstraße 13 Eberswalde 16225;X-APPLE-RADIUS=500;X-TITLE=Puschkinstraße 13:geo:13.813466,52.8329172
END:VEVENT
BEGIN:VEVENT
DTSTART;TZID=Europe/Berlin:20180924T163000
DTEND;TZID=Europe/Berlin:20180924T193000
DTSTAMP:20260424T122106
CREATED:20180828T095934Z
LAST-MODIFIED:20180828T100859Z
UID:10000202-1537806600-1537817400@buergerstiftung-barnim-uckermark.de
SUMMARY:Alltag in arabisch-islamisch geprägten Kulturen
DESCRIPTION:  \nFortbildung für Ehrenamtliche\, die Zugewanderte unterstützen – im Rahmen der Interkulturellen Wochen im Barnim.  Der Workshop vermittelt anschaulich Informationen zu den vorherrschenden Normen und Praktiken des Alltags in Ländern wie beispielsweise Syrien. Dabei werden die gängigen Auffassungen zu Familie und Sexualität\, Ernährung und Kleidung\, aber auch zu Bildung\, Musik und Theater dargestellt. Er soll ein differenziertes Bild des Islam aufzeigen und einfache Alltagserfahrungen\, Erwartungen\, Wünsche und Hoffnungen wie auch Ängste veranschaulichen.\nReferent: Amin Dabbagh\, in Kooperation mit FAZIT.\nBitte bis spätestens 21.09.2018 anmelden.
URL:https://buergerstiftung-barnim-uckermark.de/aktuelle/alltag-in-arabisch-islamisch-gepaegten-kulturen/
LOCATION:Bürgerbildungszentrum Amadeu Antonio\, Puschkinstraße 13\, Eberswalde\, 16225
GEO:52.8329172;13.813466
X-APPLE-STRUCTURED-LOCATION;VALUE=URI;X-ADDRESS=Bürgerbildungszentrum Amadeu Antonio Puschkinstraße 13 Eberswalde 16225;X-APPLE-RADIUS=500;X-TITLE=Puschkinstraße 13:geo:13.813466,52.8329172
END:VEVENT
BEGIN:VEVENT
DTSTART;TZID=Europe/Berlin:20180912T100000
DTEND;TZID=Europe/Berlin:20180912T100000
DTSTAMP:20260424T122106
CREATED:20180615T124701Z
LAST-MODIFIED:20180816T090920Z
UID:10000138-1536746400-1536746400@buergerstiftung-barnim-uckermark.de
SUMMARY:Tatkräftig handeln (Vorbereitung für Gemeinnützige)
DESCRIPTION:Anmeldung bis zum 5.  September 2018 unter: www.freiwillig-in-eberswalde.de/tatkräftighandeln
URL:https://buergerstiftung-barnim-uckermark.de/aktuelle/tatkraeftig-handeln-2-2-2-2/
LOCATION:Bürgerbildungszentrum Amadeu Antonio\, Puschkinstraße 13\, Eberswalde\, 16225
CATEGORIES:Freiwilligenagentur
ORGANIZER;CN="B%C3%BCrgerstiftung Barnim Uckermark":MAILTO:kontakt@buergerstiftung-barnim-uckermark.de
GEO:52.8329172;13.813466
X-APPLE-STRUCTURED-LOCATION;VALUE=URI;X-ADDRESS=Bürgerbildungszentrum Amadeu Antonio Puschkinstraße 13 Eberswalde 16225;X-APPLE-RADIUS=500;X-TITLE=Puschkinstraße 13:geo:13.813466,52.8329172
END:VEVENT
BEGIN:VEVENT
DTSTART;TZID=Europe/Berlin:20180827T170000
DTEND;TZID=Europe/Berlin:20180827T170000
DTSTAMP:20260424T122106
CREATED:20180615T124701Z
LAST-MODIFIED:20180816T091006Z
UID:10000139-1535389200-1535389200@buergerstiftung-barnim-uckermark.de
SUMMARY:Tatkräftig handeln (Vorbereitung für Gemeinnützige)
DESCRIPTION:Anmeldung bis zum 25.  August 2018 unter: www.freiwillig-in-eberswalde.de/tatkräftighandeln
URL:https://buergerstiftung-barnim-uckermark.de/aktuelle/tatkraeftig-handeln-2-2-2/
LOCATION:Bürgerbildungszentrum Amadeu Antonio\, Puschkinstraße 13\, Eberswalde\, 16225
CATEGORIES:Freiwilligenagentur
ORGANIZER;CN="B%C3%BCrgerstiftung Barnim Uckermark":MAILTO:kontakt@buergerstiftung-barnim-uckermark.de
GEO:52.8329172;13.813466
X-APPLE-STRUCTURED-LOCATION;VALUE=URI;X-ADDRESS=Bürgerbildungszentrum Amadeu Antonio Puschkinstraße 13 Eberswalde 16225;X-APPLE-RADIUS=500;X-TITLE=Puschkinstraße 13:geo:13.813466,52.8329172
END:VEVENT
BEGIN:VEVENT
DTSTART;TZID=Europe/Berlin:20180616T140000
DTEND;TZID=Europe/Berlin:20180616T220000
DTSTAMP:20260424T122106
CREATED:20180615T124611Z
LAST-MODIFIED:20180615T170327Z
UID:10000143-1529157600-1529186400@buergerstiftung-barnim-uckermark.de
SUMMARY:Jubiläum der Bürgerstiftung
DESCRIPTION:
URL:https://buergerstiftung-barnim-uckermark.de/aktuelle/jubilaeum/
LOCATION:Bürgerbildungszentrum Amadeu Antonio\, Puschkinstraße 13\, Eberswalde\, 16225
CATEGORIES:Bürgerstiftung
ORGANIZER;CN="B%C3%BCrgerstiftung Barnim Uckermark":MAILTO:kontakt@buergerstiftung-barnim-uckermark.de
GEO:52.8329172;13.813466
X-APPLE-STRUCTURED-LOCATION;VALUE=URI;X-ADDRESS=Bürgerbildungszentrum Amadeu Antonio Puschkinstraße 13 Eberswalde 16225;X-APPLE-RADIUS=500;X-TITLE=Puschkinstraße 13:geo:13.813466,52.8329172
END:VEVENT
END:VCALENDAR